BEGIN:VCALENDAR
VERSION:2.0
PRODID:-//Lycoming County SPCA - ECPv6.15.12.2//NONSGML v1.0//EN
CALSCALE:GREGORIAN
METHOD:PUBLISH
X-ORIGINAL-URL:https://lycomingspca.org
X-WR-CALDESC:Events for Lycoming County SPCA
REFRESH-INTERVAL;VALUE=DURATION:PT1H
X-Robots-Tag:noindex
X-PUBLISHED-TTL:PT1H
BEGIN:VTIMEZONE
TZID:America/New_York
BEGIN:DAYLIGHT
TZOFFSETFROM:-0500
TZOFFSETTO:-0400
TZNAME:EDT
DTSTART:20230312T070000
END:DAYLIGHT
BEGIN:STANDARD
TZOFFSETFROM:-0400
TZOFFSETTO:-0500
TZNAME:EST
DTSTART:20231105T060000
END:STANDARD
BEGIN:DAYLIGHT
TZOFFSETFROM:-0500
TZOFFSETTO:-0400
TZNAME:EDT
DTSTART:20240310T070000
END:DAYLIGHT
BEGIN:STANDARD
TZOFFSETFROM:-0400
TZOFFSETTO:-0500
TZNAME:EST
DTSTART:20241103T060000
END:STANDARD
BEGIN:DAYLIGHT
TZOFFSETFROM:-0500
TZOFFSETTO:-0400
TZNAME:EDT
DTSTART:20250309T070000
END:DAYLIGHT
BEGIN:STANDARD
TZOFFSETFROM:-0400
TZOFFSETTO:-0500
TZNAME:EST
DTSTART:20251102T060000
END:STANDARD
BEGIN:DAYLIGHT
TZOFFSETFROM:-0500
TZOFFSETTO:-0400
TZNAME:EDT
DTSTART:20260308T070000
END:DAYLIGHT
BEGIN:STANDARD
TZOFFSETFROM:-0400
TZOFFSETTO:-0500
TZNAME:EST
DTSTART:20261101T060000
END:STANDARD
END:VTIMEZONE
BEGIN:VEVENT
DTSTART;TZID=America/New_York:20250324T120000
DTEND;TZID=America/New_York:20250324T170000
DTSTAMP:20260423T134554
CREATED:20250306T012228Z
LAST-MODIFIED:20250306T012633Z
UID:13108-1742817600-1742835600@lycomingspca.org
SUMMARY:Petsmart Adoption Event
DESCRIPTION:Stop by Petsmart in Williamsport to see which animals we’ll have onsite.
URL:https://lycomingspca.org/event/petsmart-adoption-event/
LOCATION:PetSmart\, 1742 East 3rd Street\, Williamsport\, PA\, 17701\, United States
CATEGORIES:Adoption Promotions,Community Event
ATTACH;FMTTYPE=image/png:https://lycomingspca.org/wp-content/uploads/FB_Social_1600-x-840_NAW_MARCH2025_CAT_US.png
END:VEVENT
BEGIN:VEVENT
DTSTART;TZID=America/New_York:20250324T120000
DTEND;TZID=America/New_York:20250324T170000
DTSTAMP:20260423T134554
CREATED:20250306T012228Z
LAST-MODIFIED:20250306T012633Z
UID:13108-1742817600-1742835600@lycomingspca.org
SUMMARY:Petsmart Adoption Event
DESCRIPTION:Stop by Petsmart in Williamsport to see which animals we’ll have onsite.
URL:https://lycomingspca.org/event/petsmart-adoption-event/
LOCATION:PetSmart\, 1742 East 3rd Street\, Williamsport\, PA\, 17701\, United States
CATEGORIES:Adoption Promotions,Community Event
ATTACH;FMTTYPE=image/png:https://lycomingspca.org/wp-content/uploads/FB_Social_1600-x-840_NAW_MARCH2025_CAT_US.png
END:VEVENT
BEGIN:VEVENT
DTSTART;TZID=America/New_York:20250324T120000
DTEND;TZID=America/New_York:20250324T170000
DTSTAMP:20260423T134554
CREATED:20250306T012228Z
LAST-MODIFIED:20250306T012633Z
UID:13108-1742817600-1742835600@lycomingspca.org
SUMMARY:Petsmart Adoption Event
DESCRIPTION:Stop by Petsmart in Williamsport to see which animals we’ll have onsite.
URL:https://lycomingspca.org/event/petsmart-adoption-event/
LOCATION:PetSmart\, 1742 East 3rd Street\, Williamsport\, PA\, 17701\, United States
CATEGORIES:Adoption Promotions,Community Event
ATTACH;FMTTYPE=image/png:https://lycomingspca.org/wp-content/uploads/FB_Social_1600-x-840_NAW_MARCH2025_CAT_US.png
END:VEVENT
BEGIN:VEVENT
DTSTART;TZID=America/New_York:20250324T120000
DTEND;TZID=America/New_York:20250324T170000
DTSTAMP:20260423T134554
CREATED:20250306T012228Z
LAST-MODIFIED:20250306T012633Z
UID:13108-1742817600-1742835600@lycomingspca.org
SUMMARY:Petsmart Adoption Event
DESCRIPTION:Stop by Petsmart in Williamsport to see which animals we’ll have onsite.
URL:https://lycomingspca.org/event/petsmart-adoption-event/
LOCATION:PetSmart\, 1742 East 3rd Street\, Williamsport\, PA\, 17701\, United States
CATEGORIES:Adoption Promotions,Community Event
ATTACH;FMTTYPE=image/png:https://lycomingspca.org/wp-content/uploads/FB_Social_1600-x-840_NAW_MARCH2025_CAT_US.png
END:VEVENT
BEGIN:VEVENT
DTSTART;TZID=America/New_York:20250312T150000
DTEND;TZID=America/New_York:20250313T235900
DTSTAMP:20260423T134554
CREATED:20250123T153028Z
LAST-MODIFIED:20250123T153029Z
UID:12780-1741791600-1741910340@lycomingspca.org
SUMMARY:Raise the Region
DESCRIPTION:You can support the Lycoming County SPCA animals and programs by making a donation during Raise the Region 2025!
URL:https://lycomingspca.org/event/raise-the-region-8/
LOCATION:PA
CATEGORIES:Community Event,Fundraising Event
ATTACH;FMTTYPE=image/png:https://lycomingspca.org/wp-content/uploads/Raise-the-Region.png
END:VEVENT
BEGIN:VEVENT
DTSTART;VALUE=DATE:20250208
DTEND;VALUE=DATE:20250209
DTSTAMP:20260423T134554
CREATED:20250124T010330Z
LAST-MODIFIED:20250124T010330Z
UID:12805-1738972800-1739059199@lycomingspca.org
SUMMARY:Kitten Adoption Event
DESCRIPTION:
URL:https://lycomingspca.org/event/kitten-adoption-event-2/
LOCATION:Lycoming County SPCA\, 2805 Reach Road\, Williamsport\, PA\, 17701\, United States
CATEGORIES:Adoption Promotions,Community Event
END:VEVENT
BEGIN:VEVENT
DTSTART;TZID=America/New_York:20241019T180000
DTEND;TZID=America/New_York:20241019T210000
DTSTAMP:20260423T134554
CREATED:20240930T170538Z
LAST-MODIFIED:20240930T170843Z
UID:12459-1729360800-1729371600@lycomingspca.org
SUMMARY:Van Wagner Live Concert
DESCRIPTION:Van Wagner is a true Renaissance man—an educator\, forester\, and musician whose work bridges the worlds of nature and history. In the classroom\, he teaches Agriculture Science at Danville Area High School\, earning honors like Conservation Educator of the Year and the Sandy Cochran Award for his dedication to natural resource education. Outside the classroom\, his music and storytelling bring Pennsylvania’s heritage to life\, earning him accolades such as the 2018 Outstanding Achievement Award from the Pennsylvania Heritage Songwriting Contest. With 33 albums and a book\, Coal Dust\, Rust\, and Saw Dust\, his work has been featured on platforms like the History Channel and CMT\, inspiring others to connect with the land and its stories. You can check out his story and music at http://www.vanwagnermusic.com and www.youtube.com/@vanwags
URL:https://lycomingspca.org/event/van-wagner-live-concert/
LOCATION:Hush Room\, 6 S. Main St.\, Muncy\, PA\, United States
CATEGORIES:Community Event,Fundraising Event
END:VEVENT
BEGIN:VEVENT
DTSTART;TZID=America/New_York:20240608T120000
DTEND;TZID=America/New_York:20240608T160000
DTSTAMP:20260423T134554
CREATED:20240422T183344Z
LAST-MODIFIED:20240422T183345Z
UID:11458-1717848000-1717862400@lycomingspca.org
SUMMARY:New Trail Fundraiser
DESCRIPTION:
URL:https://lycomingspca.org/event/new-trail-fundraiser/
LOCATION:New Trail Brewing Company\, 240 Arch Street Building 18\, Williamsport\, PA\, 17701\, United States
CATEGORIES:Adoption Promotions,Community Event,Fundraising Event,Pints for Pups,Volunteer Events
END:VEVENT
BEGIN:VEVENT
DTSTART;TZID=America/New_York:20240608T120000
DTEND;TZID=America/New_York:20240608T160000
DTSTAMP:20260423T134554
CREATED:20240422T183344Z
LAST-MODIFIED:20240422T183345Z
UID:11458-1717848000-1717862400@lycomingspca.org
SUMMARY:New Trail Fundraiser
DESCRIPTION:
URL:https://lycomingspca.org/event/new-trail-fundraiser/
LOCATION:New Trail Brewing Company\, 240 Arch Street Building 18\, Williamsport\, PA\, 17701\, United States
CATEGORIES:Adoption Promotions,Community Event,Fundraising Event,Pints for Pups,Volunteer Events
END:VEVENT
BEGIN:VEVENT
DTSTART;TZID=America/New_York:20240505T143000
DTEND;TZID=America/New_York:20240505T170000
DTSTAMP:20260423T134554
CREATED:20240422T182208Z
LAST-MODIFIED:20240422T182839Z
UID:11452-1714919400-1714928400@lycomingspca.org
SUMMARY:Vaccine Clinic
DESCRIPTION:
URL:https://lycomingspca.org/event/vaccine-clinic/
LOCATION:Petco\, 320 S. Lycoming Mall Rd\, Muncy\, 17756\, United States
CATEGORIES:Clinic,Community Event
ATTACH;FMTTYPE=image/png:https://lycomingspca.org/wp-content/uploads/PetCo.png
END:VEVENT
BEGIN:VEVENT
DTSTART;TZID=America/New_York:20240505T143000
DTEND;TZID=America/New_York:20240505T170000
DTSTAMP:20260423T134554
CREATED:20240422T182208Z
LAST-MODIFIED:20240422T182839Z
UID:11452-1714919400-1714928400@lycomingspca.org
SUMMARY:Vaccine Clinic
DESCRIPTION:
URL:https://lycomingspca.org/event/vaccine-clinic/
LOCATION:Petco\, 320 S. Lycoming Mall Rd\, Muncy\, 17756\, United States
CATEGORIES:Clinic,Community Event
ATTACH;FMTTYPE=image/png:https://lycomingspca.org/wp-content/uploads/PetCo.png
END:VEVENT
BEGIN:VEVENT
DTSTART;TZID=America/New_York:20240504T110000
DTEND;TZID=America/New_York:20240504T160000
DTSTAMP:20260423T134554
CREATED:20240504T133858Z
LAST-MODIFIED:20240504T133858Z
UID:11463-1714820400-1714838400@lycomingspca.org
SUMMARY:Microchipping Event
DESCRIPTION:
URL:https://lycomingspca.org/event/microchipping-event/
LOCATION:Lycoming County SPCA\, 2805 Reach Road\, Williamsport\, PA\, 17701\, United States
CATEGORIES:Clinic,Community Event
END:VEVENT
BEGIN:VEVENT
DTSTART;TZID=America/New_York:20240504T110000
DTEND;TZID=America/New_York:20240504T150000
DTSTAMP:20260423T134554
CREATED:20240201T190153Z
LAST-MODIFIED:20240504T133558Z
UID:10785-1714820400-1714834800@lycomingspca.org
SUMMARY:Who Let the Dogs Out?
DESCRIPTION:
URL:https://lycomingspca.org/event/who-let-the-dogs-out-2/
LOCATION:PA
CATEGORIES:Adoption Promotions,Community Event,Volunteer Events
END:VEVENT
BEGIN:VEVENT
DTSTART;TZID=America/New_York:20240411T170000
DTEND;TZID=America/New_York:20240411T190000
DTSTAMP:20260423T134554
CREATED:20240102T183646Z
LAST-MODIFIED:20240102T183719Z
UID:10717-1712854800-1712862000@lycomingspca.org
SUMMARY:Lycoming County SPCA PM Exchange
DESCRIPTION:
URL:https://lycomingspca.org/event/lycoming-county-spca-pm-exchange/
LOCATION:Lycoming County SPCA\, 2805 Reach Road\, Williamsport\, PA\, 17701\, United States
CATEGORIES:Community Event
END:VEVENT
BEGIN:VEVENT
DTSTART;TZID=America/New_York:20240221T144000
DTEND;TZID=America/New_York:20240221T144000
DTSTAMP:20260423T134554
CREATED:20240221T144018Z
LAST-MODIFIED:20240221T144219Z
UID:10861-1708526400-1708526400@lycomingspca.org
SUMMARY:Petco Vaccine Clinic
DESCRIPTION:
URL:https://lycomingspca.org/event/petco-vaccine-clinic/
LOCATION:Petco\, 320 S. Lycoming Mall Rd\, Muncy\, 17756\, United States
CATEGORIES:Clinic,Community Event
ATTACH;FMTTYPE=image/png:https://lycomingspca.org/wp-content/uploads/PetCo.png
END:VEVENT
BEGIN:VEVENT
DTSTART;TZID=America/New_York:20240221T144000
DTEND;TZID=America/New_York:20240221T144000
DTSTAMP:20260423T134554
CREATED:20240221T144018Z
LAST-MODIFIED:20240221T144219Z
UID:10861-1708526400-1708526400@lycomingspca.org
SUMMARY:Petco Vaccine Clinic
DESCRIPTION:
URL:https://lycomingspca.org/event/petco-vaccine-clinic/
LOCATION:Petco\, 320 S. Lycoming Mall Rd\, Muncy\, 17756\, United States
CATEGORIES:Clinic,Community Event
ATTACH;FMTTYPE=image/png:https://lycomingspca.org/wp-content/uploads/PetCo.png
END:VEVENT
BEGIN:VEVENT
DTSTART;TZID=America/New_York:20240221T144000
DTEND;TZID=America/New_York:20240221T144000
DTSTAMP:20260423T134554
CREATED:20240221T144018Z
LAST-MODIFIED:20240221T144219Z
UID:10861-1708526400-1708526400@lycomingspca.org
SUMMARY:Petco Vaccine Clinic
DESCRIPTION:
URL:https://lycomingspca.org/event/petco-vaccine-clinic/
LOCATION:Petco\, 320 S. Lycoming Mall Rd\, Muncy\, 17756\, United States
CATEGORIES:Clinic,Community Event
ATTACH;FMTTYPE=image/png:https://lycomingspca.org/wp-content/uploads/PetCo.png
END:VEVENT
END:VCALENDAR